BEGIN:VCALENDAR
VERSION:2.0
PRODID:-//WXXV 25 - ECPv4.6.21//NONSGML v1.0//EN
CALSCALE:GREGORIAN
METHOD:PUBLISH
X-WR-CALNAME:WXXV 25
X-ORIGINAL-URL:https://www.wxxv25.com
X-WR-CALDESC:Events for WXXV 25
BEGIN:VEVENT
DTSTART;TZID=America/Chicago:20180919T180000
DTEND;TZID=America/Chicago:20180919T200000
DTSTAMP:20180918T215148
CREATED:20180918T195243Z
LAST-MODIFIED:20180918T195243Z
UID:1332368-1537380000-1537387200@www.wxxv25.com
SUMMARY:The Night before the Storm
DESCRIPTION:StStSWest Harrison will host a Hurricane Spirit Night September 19th from 6-8pm at the Hurricane Stadium on the campus of West Harrison High School. \nAdmission into the event is only $1. \nWH Clubs and other student involved organizations will be selling concessions\, raffling off prizes\, playing a wide variety of games and introducing the First Annual HOMEGOING Court! \n
URL:https://www.wxxv25.com/event/the-night-before-the-storm/
LOCATION:10399 County Farm Rd\,\, Gulfport\, MS\, 39503\, United States
ATTACH;FMTTYPE=image/png:https://www.wxxv25.com/wp-content/uploads/2018/01/WXXV.png
END:VEVENT
BEGIN:VEVENT
DTSTART;VALUE=DATE:20180920
DTEND;VALUE=DATE:20180921
DTSTAMP:20180918T215148
CREATED:20180220T195917Z
LAST-MODIFIED:20180220T195917Z
UID:1232523-1537401600-1537487999@www.wxxv25.com
SUMMARY:"Chris Young Losing Sleep 2018 World Tour" Adds Biloxi\, MS Show
DESCRIPTION:Following his induction into the Grand Ole Opry and the release of his acclaimed seventh album\, Losing Sleep\, 2017 was undoubtedly a career-defining year for platinum-selling entertainer Chris Young. 2018 is proving to be another banner year for the 32-year old neo-traditionalist. After a tremendous response to the initial winter run of his “Chris Young Losing Sleep 2018 World Tour\,” playing five consecutive sold-out weekends of arena shows\, and scoring his 10th No. 1 single\, Chris has added 9 more shows\, including his first-ever hometown headlining appearance at Bridgestone Arena in Nashville. He will visit Biloxi\, MS on September 20 at Miss Coast Coliseum. Special guests Kane Brown and Morgan Evans will join him for the added dates.\nTickets and VIP packages for the Biloxi\, MS date of “Chris Young Losing Sleep 2018 World Tour\,” promoted by AEG Presents and Concerts West\, go on sale Thursday\, March 1 at 10am local time.\nTickets and VIP packages can be purchased at ChrisYoungCountry.com. \n
URL:https://www.wxxv25.com/event/chris-young-losing-sleep-2018-world-tour-adds-biloxi-ms-show/
LOCATION:2350 Beach Blvd\, Biloxi\, MS\, 39531\, United States
GEO:30.3944024;-88.9745495
X-APPLE-STRUCTURED-LOCATION;VALUE=URI;X-ADDRESS=2350 Beach Blvd Biloxi MS 39531 United States;X-APPLE-RADIUS=500;X-TITLE=2350 Beach Blvd:geo:-88.9745495,30.3944024
ATTACH;FMTTYPE=image/jpeg:https://www.wxxv25.com/wp-content/uploads/2018/02/CHRIS20COVER_PHOTO_preview.jpeg
END:VEVENT
BEGIN:VEVENT
DTSTART;TZID=America/Chicago:20180923T190000
DTEND;TZID=America/Chicago:20180923T220000
DTSTAMP:20180918T215148
CREATED:20180728T000455Z
LAST-MODIFIED:20180728T000455Z
UID:1316378-1537729200-1537740000@www.wxxv25.com
SUMMARY:Luther Dickinson and Special Guests
DESCRIPTION:Luther Dickinson and Special Guests 3rd annual performance of his music inspired by Walter Anderson’s mural “The Seven Climates of Ocean Springs” \n7 pm on Sunday\, September 23 at the Ocean Springs Community Center. \nMembers only PRESALE Starts TODAY!* \nVIP $100 per person \n(only 100 available) \nIncludes reserved seating\, signature cocktails during the show AND a private after-party with a special solo performance by Luther at Rosetti Park. \nGeneral admission $25 for members $35 for non-members. (Only 100 available) \nSpecial guest will include: Big Sam of Big Sam’s Funky Nation\, Kirk Joseph of The Dirty Dozen Brass Band\, Sharde “Fifemastor” Thomas of The Rising Stars Fife and Drum Band\, and as always New Orleans drum legend Johnny “V” Vidacovich. Standing room only\, cash bar. \nInspired by the Seven Seasons murals by Walter Inglis Anderson\, Dickinson invites collaborators to Ocean Springs each year to and improvise together in the Community Center with the murals as their muse. Don’t miss this unique listening experience. \n*Presale dates are exclusive to active members of the Walter Anderson Museum of Art. Tickets will be made available to the general public August 1st. \n
URL:https://www.wxxv25.com/event/luther-dickinson-special-guests/
LOCATION:512 Washington Ave\, Ocean Springs\, MS\, 39564\, United States
GEO:30.4107641;-88.8274635
X-APPLE-STRUCTURED-LOCATION;VALUE=URI;X-ADDRESS=512 Washington Ave Ocean Springs MS 39564 United States;X-APPLE-RADIUS=500;X-TITLE=512 Washington Ave:geo:-88.8274635,30.4107641
ATTACH;FMTTYPE=image/png:https://www.wxxv25.com/wp-content/uploads/2018/01/WXXV.png
END:VEVENT
BEGIN:VEVENT
DTSTART;TZID=America/Chicago:20180927T070000
DTEND;TZID=America/Chicago:20180927T170000
DTSTAMP:20180918T215148
CREATED:20180728T000711Z
LAST-MODIFIED:20180728T000711Z
UID:1316382-1538031600-1538067600@www.wxxv25.com
SUMMARY:Chris Stebly All One People - Drawdown
DESCRIPTION:Tickets $25 for 1 or $100 for 5 \nOnly 500 tickets will be sold. \nChristopher Stebly is best known for his fluid forms depicting the flora\, fauna\, and people of the Gulf Coast Region. A grandson of Walter Inglis Anderson\, Christopher Stebly has forged a place for himself within the art world with his unique style and energetic compositions. \nThis piece\, One People\, is the original concept work for the public artwork by the same name in Downtown Ocean Springs. As Stebly states\, this work is all about respect\, peace\, and education. “I support the building of bridges and tearing down walls\,” states Stebly\, “I suggest that you all go out into nature. You will learn who you are.” \nThis stunning work has been generously donated by Stebly. It is sure to be a hallmark of Southern Art and the highlight of your art collection! \n**The winner will be selected at Walter Anderson Legacy Celebration with Family and Friends \n– a cocktail reception honoring the legacy of Walter Anderson as expressed today through his children and grandchildren on Thursday\, September 27th at the Ocean Springs Community Center. \nStop by the museum to purchase your tickets. \n
URL:https://www.wxxv25.com/event/chris-stebly-one-people-drawdown/
LOCATION:512 Washington Ave\, Ocean Springs\, MS\, 39564\, United States
GEO:30.4107641;-88.8274635
X-APPLE-STRUCTURED-LOCATION;VALUE=URI;X-ADDRESS=512 Washington Ave Ocean Springs MS 39564 United States;X-APPLE-RADIUS=500;X-TITLE=512 Washington Ave:geo:-88.8274635,30.4107641
ATTACH;FMTTYPE=image/png:https://www.wxxv25.com/wp-content/uploads/2018/01/WXXV.png
END:VEVENT
BEGIN:VEVENT
DTSTART;TZID=America/Chicago:20181006T100000
DTEND;TZID=America/Chicago:20181006T190000
DTSTAMP:20180918T215148
CREATED:20180728T000102Z
LAST-MODIFIED:20180728T000102Z
UID:1316376-1538820000-1538852400@www.wxxv25.com
SUMMARY:OOMA Launches George E. Ohr Art & Beer Festival
DESCRIPTION:After a three year hiatus\, the Ohr-O’Keefe Museum of Art is resurrecting the George Ohr Arts Festival and incorporating two new additions: craft beer and a camper rally. \nThe first ever George E. Ohr Art & Beer Festival will take place on Saturday\, October 6 from 10:00 AM – 7:00 PM. The festival will offer a diverse array of arts and crafts vendors; craft beer tents; a homebrewers’ competition; a camper rally with vintage campers\, skoolies\, and camper vans; a community car art restoration project; live music; a whacky ceramics-based performance by the Mad Potter of Bay St. Louis Steve Barney; a ceramics throw-down between the coast’s finest potters; and food vendors! \nThe festival will fall during Cruisin’ the Coast\, one of the largest tourism attractions to the Mississippi Gulf Coast\, last year seeing over 8\,000 classic cars register. The museum anticipates a crowd of 2\,000+ attendees and dozens of vintage campers to participate in this year’s festival. \nThe cost of entry to the Ohr Art & Beer Fest is free\, but access to the beer tents will require purchasing an armband: \nGeneral Admission armbands: $25 \n-buyers will receive ten 5 oz. beer pours \nVIP armbands: $50 \n-buyers will receive a commemorative ceramic beer stein \n-five full 16 oz. pours \n*Only 100 VIP armbands will be available for purchase. \nIf you’re the owner of a vintage camper\, camper van\, or skoolie\, OOMA’s grounds will be available for a two night camping post for $75. Inquiries and payments can be sent to visitorinfo@georgeohr.org. \nMark your calendars for the biggest and best festival OOMA has ever seen! \nTickets are on sale now at www.georgeohr.org/events. \n
URL:https://www.wxxv25.com/event/ooma-launches-george-e-ohr-art-beer-festival/
LOCATION:386 Beach Blvd\, Biloxi\, MS\, 39530\, United States
GEO:30.3935469;-88.871802
X-APPLE-STRUCTURED-LOCATION;VALUE=URI;X-ADDRESS=386 Beach Blvd Biloxi MS 39530 United States;X-APPLE-RADIUS=500;X-TITLE=386 Beach Blvd:geo:-88.871802,30.3935469
ATTACH;FMTTYPE=image/png:https://www.wxxv25.com/wp-content/uploads/2018/01/WXXV.png
END:VEVENT
END:VCALENDAR